BEGIN:VCALENDAR
VERSION:2.0
PRODID:-//Christmas In Fairfax - ECPv6.15.13//NONSGML v1.0//EN
CALSCALE:GREGORIAN
METHOD:PUBLISH
X-WR-CALNAME:Christmas In Fairfax
X-ORIGINAL-URL:https://christmasinfairfax.com
X-WR-CALDESC:Events for Christmas In Fairfax
REFRESH-INTERVAL;VALUE=DURATION:PT1H
X-Robots-Tag:noindex
X-PUBLISHED-TTL:PT1H
BEGIN:VTIMEZONE
TZID:America/New_York
BEGIN:DAYLIGHT
TZOFFSETFROM:-0500
TZOFFSETTO:-0400
TZNAME:EDT
DTSTART:20250309T070000
END:DAYLIGHT
BEGIN:STANDARD
TZOFFSETFROM:-0400
TZOFFSETTO:-0500
TZNAME:EST
DTSTART:20251102T060000
END:STANDARD
BEGIN:DAYLIGHT
TZOFFSETFROM:-0500
TZOFFSETTO:-0400
TZNAME:EDT
DTSTART:20260308T070000
END:DAYLIGHT
BEGIN:STANDARD
TZOFFSETFROM:-0400
TZOFFSETTO:-0500
TZNAME:EST
DTSTART:20261101T060000
END:STANDARD
BEGIN:DAYLIGHT
TZOFFSETFROM:-0500
TZOFFSETTO:-0400
TZNAME:EDT
DTSTART:20270314T070000
END:DAYLIGHT
BEGIN:STANDARD
TZOFFSETFROM:-0400
TZOFFSETTO:-0500
TZNAME:EST
DTSTART:20271107T060000
END:STANDARD
END:VTIMEZONE
BEGIN:VEVENT
DTSTART;VALUE=DATE:20260315
DTEND;VALUE=DATE:20260330
DTSTAMP:20260423T065417
CREATED:20260315T121859Z
LAST-MODIFIED:20260317T095648Z
UID:10013549-1773532800-1774828799@christmasinfairfax.com
SUMMARY:Help Support an Eagle Scout Service Project
DESCRIPTION:One of the scouts from Pender’s Boy Scout Troop 1530 is currently working toward his Eagle Scout rank—the highest achievement in Scouting. \nAs part of his Eagle Scout service project\, Abraham is collecting new toiletries for Western Fairfax Christian Ministries (WFCM) to help support individuals and families in our local community. \nDonations will be accepted at Pender through March 29. \nItems needed include: \n\nShampoo and conditioner\nBody wash and soap\nToothpaste and toothbrushes\nDeodorant\nLotion\nDiapers\nFeminine pads\n\nEvery item makes a difference and helps care for neighbors in need. Thank you for supporting Abraham’s project and the important work of WFCM! \nYou can drop off donated items for the Eagle Scout Project in the brown collection box just inside Pender’s front entrance. \n12401 Alder Woods Drive \nFairfax\, VA 22033 \n703.278.8023
URL:https://christmasinfairfax.com/event/help-support-an-eagle-scout-service-project/
LOCATION:Pender UMC\, 12401 Alder Woods Drive\, Fairfax\, VA\, 22033\, United States
ATTACH;FMTTYPE=image/jpeg:https://christmasinfairfax.com/wp-content/uploads/2026/03/eagle.jpeg
END:VEVENT
END:VCALENDAR