BEGIN:VCALENDAR
VERSION:2.0
PRODID:-//Christmas In Fairfax - ECPv6.15.13//NONSGML v1.0//EN
CALSCALE:GREGORIAN
METHOD:PUBLISH
X-WR-CALNAME:Christmas In Fairfax
X-ORIGINAL-URL:https://christmasinfairfax.com
X-WR-CALDESC:Events for Christmas In Fairfax
REFRESH-INTERVAL;VALUE=DURATION:PT1H
X-Robots-Tag:noindex
X-PUBLISHED-TTL:PT1H
BEGIN:VTIMEZONE
TZID:America/New_York
BEGIN:DAYLIGHT
TZOFFSETFROM:-0500
TZOFFSETTO:-0400
TZNAME:EDT
DTSTART:20250309T070000
END:DAYLIGHT
BEGIN:STANDARD
TZOFFSETFROM:-0400
TZOFFSETTO:-0500
TZNAME:EST
DTSTART:20251102T060000
END:STANDARD
BEGIN:DAYLIGHT
TZOFFSETFROM:-0500
TZOFFSETTO:-0400
TZNAME:EDT
DTSTART:20260308T070000
END:DAYLIGHT
BEGIN:STANDARD
TZOFFSETFROM:-0400
TZOFFSETTO:-0500
TZNAME:EST
DTSTART:20261101T060000
END:STANDARD
BEGIN:DAYLIGHT
TZOFFSETFROM:-0500
TZOFFSETTO:-0400
TZNAME:EDT
DTSTART:20270314T070000
END:DAYLIGHT
BEGIN:STANDARD
TZOFFSETFROM:-0400
TZOFFSETTO:-0500
TZNAME:EST
DTSTART:20271107T060000
END:STANDARD
END:VTIMEZONE
BEGIN:VEVENT
DTSTART;VALUE=DATE:20260620
DTEND;VALUE=DATE:20260621
DTSTAMP:20260422T134042
CREATED:20251130T090916Z
LAST-MODIFIED:20251128T095728Z
UID:10010982-1781913600-1781999999@christmasinfairfax.com
SUMMARY:Pender's Mini Free Pantry
DESCRIPTION:Pender’s Mini Food Pantry: A Small Space with a Big Mission\nThe Pender Mini Food Pantry is officially open and ready to serve our community! This little structure—built as an Eagle Scout Project by one of Pender’s Boy Scouts—is a beautiful example of service\, compassion\, and creativity. \nAt first glance\, it looks a lot like a Little Free Library\, but instead of books\, it’s stocked with nonperishable food for anyone in need. It’s a simple yet powerful way to share kindness and nourishment in our neighborhood. \n📍 Location:\nYou’ll find the pantry at 12301 Alder Woods Drive\, Fairfax\, VA 22033—coming from Route 50\, it’s the second driveway on the left into Pender\, right beside the sidewalk. \n🥫 What’s Inside:\nAs of this writing\, the pantry is filled with a wide variety of items\, including: \n\nCanned tuna\, chicken\, chili\, and soup\nBroth\, vegetables\, pumpkin\, and apple sauce\nShelf-stable milk\, peach slices\, mandarin oranges\, and individual fruit packs\nJello\, pudding cups\, mac and cheese servings\, and mashed potatoes\nCoffee\, oatmeal\, ketchup\, gravy packets\, and cooking oil\n\nIt’s truly a community effort—and every contribution helps keep it going. \n💜 How to Help:\nAnyone is welcome to take what they need or to donate food items to keep the pantry stocked. When you give\, please remember our guiding principle: \nGive with dignity. Donate items you’d feel comfortable using yourself. \n 
URL:https://christmasinfairfax.com/event/penders-mini-free-pantry/2026-06-20/
LOCATION:Pender UMC\, 12401 Alder Woods Drive\, Fairfax\, VA\, 22033\, United States
CATEGORIES:Free,Greenbriar,Help Others
ATTACH;FMTTYPE=image/jpeg:https://christmasinfairfax.com/wp-content/uploads/2025/11/mini-food.jpeg
END:VEVENT
BEGIN:VEVENT
DTSTART;TZID=America/New_York:20260620T090000
DTEND;TZID=America/New_York:20260620T153000
DTSTAMP:20260422T134042
CREATED:20260313T101508Z
LAST-MODIFIED:20260312T102110Z
UID:10013417-1781946000-1781969400@christmasinfairfax.com
SUMMARY:Early Bird Registration for Vacation Bible School
DESCRIPTION:Snowball Mountain Challenge at Pender UMC\nGet ready to turn your next summer VBS into an unforgettable adventure with Snowball Mountain Challenge VBS 2026! \nSnowball Mountain Challenge invites kids to an exciting winter sports event where they become Challengers\, gearing up for frosty games\, snowy surprises\, and hands-on lessons about resilience and faith. They will come to realize that with the strength God provides\, they can share their gifts\, be brave\, give their all\, pray\, and hope. \nYour kids will be guided by the energetic Activities Director and the lovable Ollie the Arctic Seal puppet\, who is reporting on the events. Challengers aren’t just playing games. Using their Challenge Companion (the Bible)\, they learn to draw strength from their faith through powerful stories\, while connecting the learnings to Bible Stories and Lift Lessons (Key Learnings). With a unique winter theme and solid theology at its core\, Snowball Mountain Challenge VBS delivers joy and meaning in equal measure\, teaching kids that “I can do all things through him who strengthens me” (Philippians 4:13\, NRSV). \nBring your family together to experience Snowball Mountain Challenge. Your VBS program will be transformed into a mountaintop experience filled with laughter\, life lessons\, and lasting faith. As children face their challenges and discover their strength in God\, you’ll hear them say\, “Challenge accepted – with God I am strong.” \nAges\nPotty-trained three year olds through ninth grade \nEarly Bird Registration is $25 per child until May 31. Registration includes lunch and a T-shirt.\nStarting June 1 registration will be $30 per child. \nQuestions?\nContact\nJane McKee\nVBS Director\n(703) 278-8023 \nRegister here. \nCan you help? \nVolunteer here.
URL:https://christmasinfairfax.com/event/early-bird-registration-for-vacation-bible-school/
LOCATION:Pender UMC\, 12401 Alder Woods Drive\, Fairfax\, VA\, 22033\, United States
CATEGORIES:Cost,Crafts,Educational,Greenbriar,Kids,Music,Preteen,Registration,Summer,Teens,Youth
ATTACH;FMTTYPE=image/jpeg:https://christmasinfairfax.com/wp-content/uploads/2026/03/vbs-2026-logo.jpeg
END:VEVENT
BEGIN:VEVENT
DTSTART;TZID=America/New_York:20260620T090000
DTEND;TZID=America/New_York:20260620T153000
DTSTAMP:20260422T134042
CREATED:20260416T102135Z
LAST-MODIFIED:20260312T102244Z
UID:10013418-1781946000-1781969400@christmasinfairfax.com
SUMMARY:Snowball Mountain Challenge at Pender UMC
DESCRIPTION:Get ready to turn your next summer VBS into an unforgettable adventure with Snowball Mountain Challenge VBS 2026! \nSnowball Mountain Challenge invites kids to an exciting winter sports event where they become Challengers\, gearing up for frosty games\, snowy surprises\, and hands-on lessons about resilience and faith. They will come to realize that with the strength God provides\, they can share their gifts\, be brave\, give their all\, pray\, and hope. \nYour kids will be guided by the energetic Activities Director and the lovable Ollie the Arctic Seal puppet\, who is reporting on the events. Challengers aren’t just playing games. Using their Challenge Companion (the Bible)\, they learn to draw strength from their faith through powerful stories\, while connecting the learnings to Bible Stories and Lift Lessons (Key Learnings). With a unique winter theme and solid theology at its core\, Snowball Mountain Challenge VBS delivers joy and meaning in equal measure\, teaching kids that “I can do all things through him who strengthens me” (Philippians 4:13\, NRSV). \nBring your family together to experience Snowball Mountain Challenge. Your VBS program will be transformed into a mountaintop experience filled with laughter\, life lessons\, and lasting faith. As children face their challenges and discover their strength in God\, you’ll hear them say\, “Challenge accepted – with God I am strong.” \nAges\nPotty-trained three year olds through ninth grade \nEarly Bird Registration is $25 per child until May 31. Registration includes lunch and a T-shirt.\nStarting June 1 registration will be $30 per child. \nQuestions?\nContact\nJane McKee\nVBS Director\n(703) 278-8023 \nRegister here. \nCan you help? \nVolunteer here.
URL:https://christmasinfairfax.com/event/snowball-mountain/
LOCATION:Pender UMC\, 12401 Alder Woods Drive\, Fairfax\, VA\, 22033\, United States
CATEGORIES:Cost,Crafts,Educational,Greenbriar,Kids,Music,Preteen,Registration,Summer,Teens,Youth
ATTACH;FMTTYPE=image/jpeg:https://christmasinfairfax.com/wp-content/uploads/2026/03/vbs-2026-logo.jpeg
END:VEVENT
END:VCALENDAR