BEGIN:VCALENDAR
VERSION:2.0
PRODID:-//Christmas In Fairfax - ECPv6.15.13//NONSGML v1.0//EN
CALSCALE:GREGORIAN
METHOD:PUBLISH
X-WR-CALNAME:Christmas In Fairfax
X-ORIGINAL-URL:https://christmasinfairfax.com
X-WR-CALDESC:Events for Christmas In Fairfax
REFRESH-INTERVAL;VALUE=DURATION:PT1H
X-Robots-Tag:noindex
X-PUBLISHED-TTL:PT1H
BEGIN:VTIMEZONE
TZID:America/New_York
BEGIN:DAYLIGHT
TZOFFSETFROM:-0500
TZOFFSETTO:-0400
TZNAME:EDT
DTSTART:20250309T070000
END:DAYLIGHT
BEGIN:STANDARD
TZOFFSETFROM:-0400
TZOFFSETTO:-0500
TZNAME:EST
DTSTART:20251102T060000
END:STANDARD
BEGIN:DAYLIGHT
TZOFFSETFROM:-0500
TZOFFSETTO:-0400
TZNAME:EDT
DTSTART:20260308T070000
END:DAYLIGHT
BEGIN:STANDARD
TZOFFSETFROM:-0400
TZOFFSETTO:-0500
TZNAME:EST
DTSTART:20261101T060000
END:STANDARD
BEGIN:DAYLIGHT
TZOFFSETFROM:-0500
TZOFFSETTO:-0400
TZNAME:EDT
DTSTART:20270314T070000
END:DAYLIGHT
BEGIN:STANDARD
TZOFFSETFROM:-0400
TZOFFSETTO:-0500
TZNAME:EST
DTSTART:20271107T060000
END:STANDARD
END:VTIMEZONE
BEGIN:VEVENT
DTSTART;VALUE=DATE:20260409
DTEND;VALUE=DATE:20260410
DTSTAMP:20260420T132303
CREATED:20250901T150340Z
LAST-MODIFIED:20250822T150627Z
UID:10009831-1775692800-1775779199@christmasinfairfax.com
SUMMARY:Overstock Book Sale
DESCRIPTION:Stop by Kings Park Library during open hours September 2 through September 13 for a special sale of overstocked books by popular authors provided by the Friends of Kings Park Library. \nWide range of titles is available. Stock will be replenished; so\, come more than once. All proceeds from this sale will directly benefit the Kings Park Library. \nPlease note: All FCPL Libraries will be closed on September 12 for Staff Development Day. 
URL:https://christmasinfairfax.com/event/overstock-book-sale/2026-04-09/
LOCATION:Kings Park Library\, 9000 Burke Lake Rd\, Burke\, 22015\, United States
CATEGORIES:All Ages,Books,Free
ATTACH;FMTTYPE=image/jpeg:https://christmasinfairfax.com/wp-content/uploads/2024/11/brick-books.jpeg
END:VEVENT
BEGIN:VEVENT
DTSTART;VALUE=DATE:20260410
DTEND;VALUE=DATE:20260411
DTSTAMP:20260420T132303
CREATED:20250901T150340Z
LAST-MODIFIED:20250822T150627Z
UID:10009832-1775779200-1775865599@christmasinfairfax.com
SUMMARY:Overstock Book Sale
DESCRIPTION:Stop by Kings Park Library during open hours September 2 through September 13 for a special sale of overstocked books by popular authors provided by the Friends of Kings Park Library. \nWide range of titles is available. Stock will be replenished; so\, come more than once. All proceeds from this sale will directly benefit the Kings Park Library. \nPlease note: All FCPL Libraries will be closed on September 12 for Staff Development Day. 
URL:https://christmasinfairfax.com/event/overstock-book-sale/2026-04-10/
LOCATION:Kings Park Library\, 9000 Burke Lake Rd\, Burke\, 22015\, United States
CATEGORIES:All Ages,Books,Free
ATTACH;FMTTYPE=image/jpeg:https://christmasinfairfax.com/wp-content/uploads/2024/11/brick-books.jpeg
END:VEVENT
BEGIN:VEVENT
DTSTART;VALUE=DATE:20260411
DTEND;VALUE=DATE:20260412
DTSTAMP:20260420T132303
CREATED:20250901T150340Z
LAST-MODIFIED:20250822T150627Z
UID:10009833-1775865600-1775951999@christmasinfairfax.com
SUMMARY:Overstock Book Sale
DESCRIPTION:Stop by Kings Park Library during open hours September 2 through September 13 for a special sale of overstocked books by popular authors provided by the Friends of Kings Park Library. \nWide range of titles is available. Stock will be replenished; so\, come more than once. All proceeds from this sale will directly benefit the Kings Park Library. \nPlease note: All FCPL Libraries will be closed on September 12 for Staff Development Day. 
URL:https://christmasinfairfax.com/event/overstock-book-sale/2026-04-11/
LOCATION:Kings Park Library\, 9000 Burke Lake Rd\, Burke\, 22015\, United States
CATEGORIES:All Ages,Books,Free
ATTACH;FMTTYPE=image/jpeg:https://christmasinfairfax.com/wp-content/uploads/2024/11/brick-books.jpeg
END:VEVENT
BEGIN:VEVENT
DTSTART;VALUE=DATE:20260412
DTEND;VALUE=DATE:20260413
DTSTAMP:20260420T132303
CREATED:20250901T150340Z
LAST-MODIFIED:20250822T150627Z
UID:10009834-1775952000-1776038399@christmasinfairfax.com
SUMMARY:Overstock Book Sale
DESCRIPTION:Stop by Kings Park Library during open hours September 2 through September 13 for a special sale of overstocked books by popular authors provided by the Friends of Kings Park Library. \nWide range of titles is available. Stock will be replenished; so\, come more than once. All proceeds from this sale will directly benefit the Kings Park Library. \nPlease note: All FCPL Libraries will be closed on September 12 for Staff Development Day. 
URL:https://christmasinfairfax.com/event/overstock-book-sale/2026-04-12/
LOCATION:Kings Park Library\, 9000 Burke Lake Rd\, Burke\, 22015\, United States
CATEGORIES:All Ages,Books,Free
ATTACH;FMTTYPE=image/jpeg:https://christmasinfairfax.com/wp-content/uploads/2024/11/brick-books.jpeg
END:VEVENT
BEGIN:VEVENT
DTSTART;VALUE=DATE:20260413
DTEND;VALUE=DATE:20260414
DTSTAMP:20260420T132303
CREATED:20250901T150340Z
LAST-MODIFIED:20250822T150627Z
UID:10009835-1776038400-1776124799@christmasinfairfax.com
SUMMARY:Overstock Book Sale
DESCRIPTION:Stop by Kings Park Library during open hours September 2 through September 13 for a special sale of overstocked books by popular authors provided by the Friends of Kings Park Library. \nWide range of titles is available. Stock will be replenished; so\, come more than once. All proceeds from this sale will directly benefit the Kings Park Library. \nPlease note: All FCPL Libraries will be closed on September 12 for Staff Development Day. 
URL:https://christmasinfairfax.com/event/overstock-book-sale/2026-04-13/
LOCATION:Kings Park Library\, 9000 Burke Lake Rd\, Burke\, 22015\, United States
CATEGORIES:All Ages,Books,Free
ATTACH;FMTTYPE=image/jpeg:https://christmasinfairfax.com/wp-content/uploads/2024/11/brick-books.jpeg
END:VEVENT
BEGIN:VEVENT
DTSTART;VALUE=DATE:20260414
DTEND;VALUE=DATE:20260415
DTSTAMP:20260420T132303
CREATED:20250901T150340Z
LAST-MODIFIED:20250822T150627Z
UID:10009836-1776124800-1776211199@christmasinfairfax.com
SUMMARY:Overstock Book Sale
DESCRIPTION:Stop by Kings Park Library during open hours September 2 through September 13 for a special sale of overstocked books by popular authors provided by the Friends of Kings Park Library. \nWide range of titles is available. Stock will be replenished; so\, come more than once. All proceeds from this sale will directly benefit the Kings Park Library. \nPlease note: All FCPL Libraries will be closed on September 12 for Staff Development Day. 
URL:https://christmasinfairfax.com/event/overstock-book-sale/2026-04-14/
LOCATION:Kings Park Library\, 9000 Burke Lake Rd\, Burke\, 22015\, United States
CATEGORIES:All Ages,Books,Free
ATTACH;FMTTYPE=image/jpeg:https://christmasinfairfax.com/wp-content/uploads/2024/11/brick-books.jpeg
END:VEVENT
BEGIN:VEVENT
DTSTART;VALUE=DATE:20260415
DTEND;VALUE=DATE:20260416
DTSTAMP:20260420T132303
CREATED:20250901T150340Z
LAST-MODIFIED:20250822T150627Z
UID:10009837-1776211200-1776297599@christmasinfairfax.com
SUMMARY:Overstock Book Sale
DESCRIPTION:Stop by Kings Park Library during open hours September 2 through September 13 for a special sale of overstocked books by popular authors provided by the Friends of Kings Park Library. \nWide range of titles is available. Stock will be replenished; so\, come more than once. All proceeds from this sale will directly benefit the Kings Park Library. \nPlease note: All FCPL Libraries will be closed on September 12 for Staff Development Day. 
URL:https://christmasinfairfax.com/event/overstock-book-sale/2026-04-15/
LOCATION:Kings Park Library\, 9000 Burke Lake Rd\, Burke\, 22015\, United States
CATEGORIES:All Ages,Books,Free
ATTACH;FMTTYPE=image/jpeg:https://christmasinfairfax.com/wp-content/uploads/2024/11/brick-books.jpeg
END:VEVENT
BEGIN:VEVENT
DTSTART;VALUE=DATE:20260416
DTEND;VALUE=DATE:20260417
DTSTAMP:20260420T132303
CREATED:20250901T150340Z
LAST-MODIFIED:20250822T150627Z
UID:10009838-1776297600-1776383999@christmasinfairfax.com
SUMMARY:Overstock Book Sale
DESCRIPTION:Stop by Kings Park Library during open hours September 2 through September 13 for a special sale of overstocked books by popular authors provided by the Friends of Kings Park Library. \nWide range of titles is available. Stock will be replenished; so\, come more than once. All proceeds from this sale will directly benefit the Kings Park Library. \nPlease note: All FCPL Libraries will be closed on September 12 for Staff Development Day. 
URL:https://christmasinfairfax.com/event/overstock-book-sale/2026-04-16/
LOCATION:Kings Park Library\, 9000 Burke Lake Rd\, Burke\, 22015\, United States
CATEGORIES:All Ages,Books,Free
ATTACH;FMTTYPE=image/jpeg:https://christmasinfairfax.com/wp-content/uploads/2024/11/brick-books.jpeg
END:VEVENT
BEGIN:VEVENT
DTSTART;VALUE=DATE:20260417
DTEND;VALUE=DATE:20260418
DTSTAMP:20260420T132303
CREATED:20250901T150340Z
LAST-MODIFIED:20250822T150627Z
UID:10009839-1776384000-1776470399@christmasinfairfax.com
SUMMARY:Overstock Book Sale
DESCRIPTION:Stop by Kings Park Library during open hours September 2 through September 13 for a special sale of overstocked books by popular authors provided by the Friends of Kings Park Library. \nWide range of titles is available. Stock will be replenished; so\, come more than once. All proceeds from this sale will directly benefit the Kings Park Library. \nPlease note: All FCPL Libraries will be closed on September 12 for Staff Development Day. 
URL:https://christmasinfairfax.com/event/overstock-book-sale/2026-04-17/
LOCATION:Kings Park Library\, 9000 Burke Lake Rd\, Burke\, 22015\, United States
CATEGORIES:All Ages,Books,Free
ATTACH;FMTTYPE=image/jpeg:https://christmasinfairfax.com/wp-content/uploads/2024/11/brick-books.jpeg
END:VEVENT
BEGIN:VEVENT
DTSTART;VALUE=DATE:20260418
DTEND;VALUE=DATE:20260419
DTSTAMP:20260420T132303
CREATED:20250901T150340Z
LAST-MODIFIED:20250822T150627Z
UID:10009840-1776470400-1776556799@christmasinfairfax.com
SUMMARY:Overstock Book Sale
DESCRIPTION:Stop by Kings Park Library during open hours September 2 through September 13 for a special sale of overstocked books by popular authors provided by the Friends of Kings Park Library. \nWide range of titles is available. Stock will be replenished; so\, come more than once. All proceeds from this sale will directly benefit the Kings Park Library. \nPlease note: All FCPL Libraries will be closed on September 12 for Staff Development Day. 
URL:https://christmasinfairfax.com/event/overstock-book-sale/2026-04-18/
LOCATION:Kings Park Library\, 9000 Burke Lake Rd\, Burke\, 22015\, United States
CATEGORIES:All Ages,Books,Free
ATTACH;FMTTYPE=image/jpeg:https://christmasinfairfax.com/wp-content/uploads/2024/11/brick-books.jpeg
END:VEVENT
BEGIN:VEVENT
DTSTART;VALUE=DATE:20260419
DTEND;VALUE=DATE:20260420
DTSTAMP:20260420T132303
CREATED:20250901T150340Z
LAST-MODIFIED:20250822T150627Z
UID:10009841-1776556800-1776643199@christmasinfairfax.com
SUMMARY:Overstock Book Sale
DESCRIPTION:Stop by Kings Park Library during open hours September 2 through September 13 for a special sale of overstocked books by popular authors provided by the Friends of Kings Park Library. \nWide range of titles is available. Stock will be replenished; so\, come more than once. All proceeds from this sale will directly benefit the Kings Park Library. \nPlease note: All FCPL Libraries will be closed on September 12 for Staff Development Day. 
URL:https://christmasinfairfax.com/event/overstock-book-sale/2026-04-19/
LOCATION:Kings Park Library\, 9000 Burke Lake Rd\, Burke\, 22015\, United States
CATEGORIES:All Ages,Books,Free
ATTACH;FMTTYPE=image/jpeg:https://christmasinfairfax.com/wp-content/uploads/2024/11/brick-books.jpeg
END:VEVENT
END:VCALENDAR